BEGIN:VCALENDAR
VERSION:2.0
PRODID:icalendar-ruby
CALSCALE:GREGORIAN
METHOD:PUBLISH
BEGIN:VEVENT
DTSTAMP:20260421T014653Z
UID:12-606268@cpcct.org
DTSTART:20261022T103000Z
DTEND:20261022T233000Z
CLASS:PUBLIC
CREATED:20260420T202557
DESCRIPTION:Hey guys! If you would like to go deeper into the Scriptures\, 
 join the group each Thursday morning for further discussion\, prayer\, and
  community based the previous Sunday's sermon. Our current Fall series is 
 "Ephesians: Where Heaven Meets Earth" \nContact Matt for more info.\nmatt
 @cpcct.org
LAST-MODIFIED:20260420T202557
LOCATION:Harborview Market / 218 Harborview Ave\, BPT
SUMMARY:Men's Bible Study
URL;VALUE=URI:https://www.cpcct.org/events/mens-bible-study/2026-10-22
ATTACH;FILENAME=CPC_October3_2021-18.jpg;FMTTYPE=image/jpeg:https://dq5pwpg
 1q8ru0.cloudfront.net/2023/09/15/10/50/46/482ac2e9-e5f3-422b-9ee5-38d01a93
 6a95/CPC_October3_2021-18.jpg
END:VEVENT
END:VCALENDAR
