BEGIN:VCALENDAR
VERSION:2.0
PRODID:icalendar-ruby
CALSCALE:GREGORIAN
METHOD:PUBLISH
BEGIN:VEVENT
DTSTAMP:20260422T121907Z
UID:30-609296@cpcct.org
DTSTART:20260927T140000Z
DTEND:20260927T153000Z
CLASS:PUBLIC
CREATED:20260422T074254
DESCRIPTION:
LAST-MODIFIED:20260422T074254
LOCATION:
SUMMARY:Sunday Morning Worship
URL;VALUE=URI:https://www.cpcct.org/events/sunday-morning-worship/2026-09-2
 7
END:VEVENT
END:VCALENDAR
