BEGIN:VCALENDAR
VERSION:2.0
PRODID:icalendar-ruby
CALSCALE:GREGORIAN
METHOD:PUBLISH
BEGIN:VEVENT
DTSTAMP:20260422T142334Z
UID:30-609297@cpcct.org
DTSTART:20261004T140000Z
DTEND:20261004T153000Z
CLASS:PUBLIC
CREATED:20260422T074254
DESCRIPTION:
LAST-MODIFIED:20260422T074254
LOCATION:
SUMMARY:Sunday Morning Worship
URL;VALUE=URI:https://www.cpcct.org/events/sunday-morning-worship/2026-10-0
 4
END:VEVENT
END:VCALENDAR
