BEGIN:VCALENDAR
VERSION:2.0
PRODID:icalendar-ruby
CALSCALE:GREGORIAN
METHOD:PUBLISH
BEGIN:VEVENT
DTSTAMP:20260422T174101Z
UID:30-610138@cpcct.org
DTSTART:20261011T140000Z
DTEND:20261011T153000Z
CLASS:PUBLIC
CREATED:20260422T133309
DESCRIPTION:
LAST-MODIFIED:20260422T133309
LOCATION:
SUMMARY:Sunday Morning Worship
URL;VALUE=URI:https://www.cpcct.org/events/sunday-morning-worship/2026-10-1
 1
END:VEVENT
END:VCALENDAR
