BEGIN:VCALENDAR
VERSION:2.0
PRODID:icalendar-ruby
CALSCALE:GREGORIAN
METHOD:PUBLISH
BEGIN:VEVENT
DTSTAMP:20260422T221718Z
UID:30-610560@cpcct.org
DTSTART:20261025T140000Z
DTEND:20261025T153000Z
CLASS:PUBLIC
CREATED:20260422T162808
DESCRIPTION:
LAST-MODIFIED:20260422T162808
LOCATION:
SUMMARY:Sunday Morning Worship
URL;VALUE=URI:https://www.cpcct.org/events/sunday-morning-worship/2026-10-2
 5
END:VEVENT
END:VCALENDAR
