BEGIN:VCALENDAR
VERSION:2.0
PRODID:icalendar-ruby
CALSCALE:GREGORIAN
METHOD:PUBLISH
BEGIN:VEVENT
DTSTAMP:20260423T001033Z
UID:30-610981@cpcct.org
DTSTART:20261101T150000Z
DTEND:20261101T163000Z
CLASS:PUBLIC
CREATED:20260422T192041
DESCRIPTION:
LAST-MODIFIED:20260422T192041
LOCATION:
SUMMARY:Sunday Morning Worship
URL;VALUE=URI:https://www.cpcct.org/events/sunday-morning-worship/2026-11-0
 1
END:VEVENT
END:VCALENDAR
